Workbook

Sheet 총괄(이사회용)
A1: ■ 2018년도 서울가톨릭사회복지회 예산 총괄표
O2: (단위 : 천원)
A3: 세 입 | H3: 세 출 | O3: 증감내역
A4: 관 | B4: 항 | C4: 2017년3차 추경예산(A) | D4: 2018년예산(B) | E4: 2012년 11월 까지수입액(C) | F4: 증 감(B-A) | H4: 관 | I4: 항 | J4: 2017년3차 추경예산(A) | K4: 2018년예산(B) | L4: 2012년 11월까지 집행액(C) | M4: 증 감(B-A)
F5: 금 액 | G5: 비 율 | M5: 금 액 | N5: 비 율
A6: 총 계 | C6: =SUM(C7,C11,C13,C15,C20,C17,C25,C27) -> 12663708 | D6: =SUM(D7,D11,D13,D15,D20,D17,D25,D27) -> 6998727.3 | E6: =+E7+#REF!+#REF!+E15+E17+#REF!+#REF!+#REF!+#REF!+#REF! -> #REF! | F6: =+D6-C6 -> -5664980.7 | G6: =SUM(F6/C6)*100 -> -44.733981 | H6: 총 계 | J6: =J7+J11+J12++J18+J19+J20+J26 -> 12663708 | K6: =K7+K11+K12++K18+K19+K20+K26 -> 6998727.3 | L6: =L7+#REF!+L13+#REF!+#REF!+L20+L26+#REF!+#REF!+#REF! -> #REF! | M6: =K6-J6 -> -5664980.7 | N6: =SUM(M6/J6)*100 -> -44.733981 | O6: ※ 세입 변동 내역
A7: 재산수입 | C7: =SUM(C8:C10) -> 5562584 | D7: =[1]세입사유!E7 -> 60213 | E7: =+[2]세입사유!F7 -> #REF! | F7: =D7-C7 -> -5502371 | G7: =SUM(F7/C7)*100 -> -98.917535 | H7: 사무비 | J7: =SUM(J8:J10) -> 1272219 | K7: =SUM(K8:K10) -> 1375899.1 | L7: =SUM(L8:L10) -> 869306 | M7: =K7-J7 -> 103680.1 | N7: =SUM(M7/J7)*100 -> 8.1495482 | O7: ◆ 재산수입 감소
B8: 임대수입 | C8: =[1]세입사유!D8 -> 26400 | D8: =[1]세입사유!E8 -> 26400 | F8: =D8-C8 -> 0 | G8: =SUM(F8/C8)*100 -> 0 | I8: 인건비 | J8: =[1]세출사유!D6 -> 936296 | K8: =[1]세출사유!E6 -> 941818.1 | L8: =[1]세출사유!F6 -> 582085 | M8: =K8-J8 -> 5522.1 | N8: =SUM(M8/J8)*100 -> 0.58978144 | O8: - 2017년 재산매각수입 감액
B9: 재산매각수입 | C9: =[1]세입사유!D9 -> 5500000 | D9: =[1]세입사유!E9 -> 0 | F9: =D9-C9 -> -5500000 | G9: =SUM(F9/C9)*100 -> -100 | I9: 업무추진비 | J9: =[1]세출사유!D12 -> 17850 | K9: =[1]세출사유!E12 -> 16650 | L9: =+[2]세출사유!F12 -> 12549 | M9: =K9-J9 -> -1200 | N9: =SUM(M9/J9)*100 -> -6.7226891 | O9: ◆ 보조금수입 감소
B10: 기금이자수입등 | C10: =SUM([1]세입사유!D10:D11) -> 36184 | D10: =SUM([1]세입사유!E10:E11) -> 33813 | F10: =D10-C10 -> -2371 | G10: =SUM(F10/C10)*100 -> -6.5526199 | I10: 운영비 | J10: =[1]세출사유!D16 -> 318073 | K10: 417431 | L10: =+[2]세출사유!F16 -> 274672 | M10: =K10-J10 -> 99358 | N10: =SUM(M10/J10)*100 -> 31.237483 | O10: - 서민금융재단 및 사회적기업진흥원 보조금 감소
A11: 사업수입 | C11: =C12 -> 37460 | D11: =D12 -> 46575 | E11: =[2]세입사유!F13 -> 2302 | F11: =F12 -> 9115 | G11: =SUM(F11/C11)*100 -> 24.332621 | H11: 재산조성비 | J11: =[1]세출사유!D23 -> 932500 | K11: =[1]세출사유!E23 -> 15500 | L11: =+[2]세출사유!F23 -> 215364 | M11: =K11-J11 -> -917000 | N11: =SUM(M11/J11)*100 -> -98.337802 | O11: ◆ 후원금수입 감소
B12: 교육사업수입 | C12: =[1]세입사유!D13 -> 37460 | D12: =[1]세입사유!E13 -> 46575 | F12: =D12-C12 -> 9115 | G12: =SUM(F12/C12)*100 -> 24.332621 | H12: 사업비 | J12: =SUM(J13:J17) -> 1588363 | K12: =SUM(K13:K17) -> 1431521.9 | M12: =K12-J12 -> -156841.1 | N12: =SUM(M12/J12)*100 -> -9.8743864 | O12: - 지정후원및 공모사업 미정으로 감액
A13: 과년도수입 | C13: =C14 -> 41 | D13: =D14 -> 0 | F13: =D13-C13 -> -41 | G13: =SUM(F13/C13)*100 -> -100 | I13: 사회복지사업 | J13: =[1]세출사유!D27 -> 1257729 | K13: =[1]세출사유!E27 -> 1083991.9 | L13: =SUM(L14:L19) -> 31393 | M13: =K13-J13 -> -173737.1 | N13: =SUM(M13/J13)*100 -> -13.813556 | O13: ◆ 전입금수입 감소
B14: 과년도수입 | C14: =[1]세입사유!D15 -> 41 | D14: =[1]세입사유!E15 -> 0 | F14: =D14-C14 -> -41 | G14: =SUM(F14/C14)*100 -> -100 | I14: 교육홍보사업 | J14: =[1]세출사유!D59 -> 168132 | K14: =[1]세출사유!E59 -> 181035 | M14: =K14-J14 -> 12903 | N14: =SUM(M14/J14)*100 -> 7.6743273 | O14: - 성가정노인복지관 기능보강 종료로
A15: 보조금 | C15: =C16 -> 335000 | D15: =D16 -> 75000 | E15: =E16 -> 0 | F15: =D15-C15 -> -260000 | G15: =SUM(F15/C15)*100 -> -77.61194 | I15: 모금사업 | J15: =[1]세출사유!D73 -> 110634 | K15: =[1]세출사유!E73 -> 106470 | M15: =K15-J15 -> -4164 | N15: =SUM(M15/J15)*100 -> -3.7637616 | O15: 기타전입금 감소
B16: 보조금수입 | C16: =[1]세입사유!D17 -> 335000 | D16: =[1]세입사유!E17 -> 75000 | F16: =D16-C16 -> -260000 | G16: =SUM(F16/C16)*100 -> -77.61194 | I16: 자원봉사센터사업 | J16: =[1]세출사유!D82 -> 41868 | K16: =[1]세출사유!E82 -> 50025 | M16: =K16-J16 -> 8157 | N16: =SUM(M16/J16)*100 -> 19.48266 | O16: ※ 세출 변동 내역
A17: 후원금 | C17: =SUM(C18,C19) -> 1808071 | D17: =SUM(D18,D19) -> 1694746.1 | F17: =D17-C17-1 -> -113325.85 | G17: =SUM(F17/C17)*100 -> -6.2677767 | I17: 재해복구사업 | J17: =[1]세출사유!D87 -> 10000 | K17: =[1]세출사유!E87 -> 10000 | M17: =K17-J17 -> 0 | N17: =SUM(M17/J17)*100 -> 0 | O17: ◆ 사무비 증가
B18: 지정후원금 | C18: =[1]세입사유!D19-1 -> 1202196 | D18: =[1]세입사유!E19 -> 1088871.5 | E18: =SUM(E20:E24) -> #REF! | F18: =D18-C18-1 -> -113325.5 | G18: =SUM(F18/C18)*100 -> -9.4265411 | H18: 잡지출 | I18: 잡지출 | J18: =[1]세출사유!D89 -> 5000 | K18: =[1]세출사유!E89 -> 5000 | M18: =K18-J18 -> 0 | N18: =SUM(M18/J18)*100 -> 0 | O18: - 기본재산 등기수수료 산정(1억)
B19: 비지정후원금 | C19: =[1]세입사유!D25 -> 605875 | D19: =[1]세입사유!E25 -> 605874.65 | E19: =SUM(E25:E28) -> #REF! | F19: =D19-C19 -> -0.353 | G19: =SUM(F19/C19)*100 -> -5.8262843e-05 | H19: 상환금 | I19: 부채상환금 | J19: =[1]세출사유!D91 -> 4540200 | K19: =[1]세출사유!E91 -> 40200 | L19: =+[2]세출사유!F92 -> 31393 | M19: =K19-J19 -> -4500000 | N19: =SUM(M19/J19)*100 -> -99.114576 | O19: ◆ 재산조성비 감소
A20: 전입금 | C20: =SUM(C21:C24) -> 2629651 | D20: =SUM(D21:D24) -> 2610298.6 | E20: =SUM(#REF!) -> #REF! | F20: =D20-C20 -> -19352.393 | G20: =SUM(F20/C20)*100 -> -0.73593009 | H20: 시설전출금 | J20: =SUM(J21:J25) -> 1858779 | K20: =SUM(K21:K25) -> 1891725 | L20: =SUM(L21:L25) -> #REF! | M20: =K20-J20 -> 32946 | N20: =SUM(M20/J20)*100 -> 1.7724539 | O20: - 2017년 자산취득(공동생활가정
B21: 교구전입금 | C21: =[1]세입사유!D30 -> 1061660 | D21: =[1]세입사유!E30 -> 1061660 | E21: 1154304 | F21: =D21-C21 -> 0 | G21: =SUM(F21/C21)*100 -> 0 | I21: 종합복지 | J21: =SUM([1]세출사유!D95:D101) -> 346000 | K21: =SUM([1]세출사유!E95:E101) -> 346000 | L21: =SUM([2]세출사유!F96:F101) -> #REF! | M21: =K21-J21 -> 0 | N21: =SUM(M21/J21)*100 -> 0 | O21: 및 차량)분 감액
B22: 사순절헌금 | C22: =[1]세입사유!D31 -> 637682 | D22: =[1]세입사유!E31 -> 637682.48 | E22: 731414 | F22: =D22-C22 -> 0.479 | G22: =SUM(F22/C22)*100 -> 7.511581e-05 | I22: 노인복지 | J22: =SUM([1]세출사유!D102:D108,[1]세출사유!D148:D149)+1 -> 527565 | K22: =SUM([1]세출사유!E102:E108,[1]세출사유!E148:E149) -> 545000 | L22: =SUM([2]세출사유!F102:F107) -> #REF! | M22: =K22-J22 -> 17435 | N22: =SUM(M22/J22)*100 -> 3.304806 | O22: ◆ 사업비 감소
B23: 자선주일헌금 | C23: =[1]세입사유!D32 -> 585956 | D23: =[1]세입사유!E32 -> 585956.13 | F23: =D23-C23 -> 0.128 | G23: =SUM(F23/C23)*100 -> 2.1844644e-05 | I23: 장애인 복지 | J23: =SUM([1]세출사유!D109:D111,[1]세출사유!D114:D115,[1]세출사유!D143:D147)+1 -> 333689 | K23: =SUM([1]세출사유!E109:E111,[1]세출사유!E114:E115,[1]세출사유!E143:E147) -> 242500 | L23: =SUM([2]세출사유!F108:F114) -> #REF! | M23: =K23-J23 -> -91189 | N23: =SUM(M23/J23)*100 -> -27.327542 | O23: - 김장나눔사업 축소 및 좋은이웃사업 종료
B24: 기타교구전입금 | C24: =[1]세입사유!D33 -> 344353 | D24: =[1]세입사유!E33 -> 325000 | E24: =[2]세입사유!F34 -> 22522 | F24: =D24-C24 -> -19353 | G24: =SUM(F24/C24)*100 -> -5.620105 | I24: 아동 복지 | J24: =SUM([1]세출사유!D119:D141,[1]세출사유!D150) -> 161800 | K24: =SUM([1]세출사유!E119:E141,[1]세출사유!E150) -> 161800 | M24: =K24-J24 -> 0 | N24: =SUM(M24/J24)*100 -> 0 | O24: - 자원봉사 백서발간으로 사업비 증가
A25: 이월금 | C25: =C26 -> 2157081 | D25: =D26 -> 2456194.6 | F25: =D25-C25 -> 299113.56 | G25: =SUM(F25/C25)*100 -> 13.866589 | I25: 노숙인,여성 및 기타 | J25: =SUM([1]세출사유!D112:D113,[1]세출사유!D116:D118,[1]세출사유!D142,[1]세출사유!D152) -> 489725 | K25: =SUM([1]세출사유!E112:E113,[1]세출사유!E116:E118,[1]세출사유!E142,[1]세출사유!E151:E152) -> 596425 | L25: =SUM([2]세출사유!F115:F150) -> #REF! | M25: =K25-J25 -> 106700 | N25: =SUM(M25/J25)*100 -> 21.787738 | O25: ◆ 상환금 감소
B26: 전년도이월금 | C26: =[1]세입사유!D34 -> 2157081 | D26: =[1]세입사유!E34 -> 2456194.6 | F26: =D26-C26 -> 299113.56 | G26: =SUM(F26/C26)*100 -> 13.866589 | H26: 예비비 및 기타 | J26: =SUM(J27:J28) -> 2466647 | K26: =SUM(K27:K28) -> 2238881.3 | L26: =SUM(L27) -> -1 | M26: =K26-J26 -> -227765.69 | N26: =SUM(M26/J26)*100 -> -9.2338177 | O26: - 교구차입금 2017년 완납(45억)
A27: 잡수입 | C27: =C28 -> 133820 | D27: =D28 -> 55700 | E27: =SUM(#REF!) -> #REF! | F27: =D27-C27 -> -78120 | G27: =SUM(F27/C27)*100 -> -58.376924 | I27: 예비비 | J27: =[1]세출사유!D154 -> 2456195 | K27: =[1]세출사유!E154 -> 2235881.3 | L27: =+[2]세출사유!F151 -> -1 | M27: =K27-J27 -> -220313.69 | N27: =SUM(M27/J27)*100 -> -8.9697149 | O27: ◆ 시설전출금 증가
B28: 잡수입 | C28: =[1]세입사유!D38 -> 133820 | D28: =[1]세입사유!E38 -> 55700 | F28: =D28-C28 -> -78120 | G28: =SUM(F28/C28)*100 -> -58.376924 | I28: 반환금 | J28: =[1]세출사유!D155 -> 10452 | K28: =[1]세출사유!E155 -> 3000 | M28: =K28-J28 -> -7452 | N28: =SUM(M28/J28)*100 -> -71.297359 | O28: - 소규모직영시설 시설전출금 지원
