Workbook

Sheet 총괄
A1: 서울가톨릭사회복지회 2015년 3차 추가경정예산(안) 총괄표
P2: (단위 : 천원)
A3: 세 입 | I3: 세 출 | P3: 비 고
A4: 관 | B4: 항 | C4: 목 | D4: 2015년 2차 추경예산(A) | E4: 2015년 3차 추경예산(B) | F4: 2012년 11월 까지수입액(C) | G4: 증 감(B-A) | I4: 관 | J4: 항 | K4: 2015년 2차 추경예산(A) | L4: 2015년 3차 추경예산(B) | M4: 2012년 11월까지 집행액(C) | N4: 증 감(B-A)
G5: 금 액 | H5: 비 율 | N5: 금 액 | O5: 비 율
A6: 총 계 | D6: =SUM(D7,D12,D13,D14,D19,D32+D33,D34) -> 19139547 | E6: =SUM(E7,E12,E13,E14,E19,E32+E33,E34) -> 18989547 | F6: =+F7+#REF!+F11+F13+F19+F27+F31+F33+#REF!+#REF! -> #REF! | G6: =+E6-D6 -> -150000.47 | H6: =SUM(G6/D6)*100 -> -0.78372008 | I6: 총 계 | K6: =K7+K11+K13+K21+K25+K34+K40+K32+K28+K30+K31 -> 19139547 | L6: =L7+L11+L13+L21+L25+L34+L40+L32+L28+L30+L31 -> 18989547 | M6: =M7+M11+M13+M21+M25+M34+M40+M32+M28+#REF! -> #REF! | N6: =+L6-K6 -> -150000.49 | O6: =SUM(N6/K6)*100 -> -0.78372017
A7: 재산수입 | B7: 기본재산수입 | C7: 합 계 | D7: =+[1]세입사유!D7 -> 1164836 | E7: =+[1]세입사유!E7 -> 1164836 | F7: =+[1]세입사유!F7 -> #REF! | G7: =E7-D7 -> -0.0060000001 | H7: =SUM(G7/D7)*100 -> -5.1509397e-07 | I7: 사무비 | J7: 합 계 | K7: =SUM(K8:K10) -> 1308258 | L7: =SUM(L8:L10) -> 1309457.8 | M7: =SUM(M8:M10) -> 1020112 | N7: =L7-K7 -> 1199.81 | O7: =SUM(N7/K7)*100 -> 0.091710504 | P7: ※ 세입 변동 내역
C8: 임대수입 | D8: =[1]세입사유!D8 -> 18000 | E8: =[1]세입사유!E8 -> 17999.994 | G8: =E8-D8 -> -0.006 | H8: =SUM(G8/D8)*100 -> -3.3333333e-05 | J8: 인건비 | K8: =+[1]세출사유!D6 -> 981319 | L8: =+[1]세출사유!E6 -> 981318.59 | M8: =+[1]세출사유!F6 -> 582085 | N8: =L8-K8 -> -0.41 | O8: =SUM(N8/K8)*100 -> -4.1780502e-05 | P8: ◆ 보조금수입 감소
C9: 재산매각수입 | D9: =[1]세입사유!D9 -> 1095000 | E9: =[1]세입사유!E9 -> 1095000 | G9: =E9-D9 -> 0 | H9: =SUM(G9/D9)*100 -> 0 | J9: 업무추진비 | K9: =+[1]세출사유!D12 -> 17910 | L9: =+[1]세출사유!E12 -> 17910 | M9: =+[1]세출사유!F12 -> 12549 | N9: =L9-K9 -> 0 | O9: =SUM(N9/K9)*100 -> 0 | P9: - 사회적기업진흥원 보조금
C10: 장학기금이자수입 | D10: =[1]세입사유!D10 -> 50336 | E10: =[1]세입사유!E10 -> 50336 | G10: =E10-D10 -> 0 | H10: =SUM(G10/D10)*100 -> 0 | J10: 관리운영비 | K10: =+[1]세출사유!D15 -> 309029 | L10: =+[1]세출사유!E15 -> 310229.22 | M10: =+[1]세출사유!F15 -> 425478 | N10: =L10-K10 -> 1200.22 | O10: =SUM(N10/K10)*100 -> 0.38838426 | P10: 감액
C11: 기타재산수입 | D11: 1731 | E11: =[1]세입사유!E11 -> 1500 | G11: 0 | H11: 0 | I11: 재산조성비 | J11: 합 계 | K11: =K12 -> 10080604 | L11: =L12 -> 9757124 | M11: =M12 -> 215364 | N11: =L11-K11 -> -323480 | O11: =SUM(N11/K11)*100 -> -3.2089347 | P11: ◆ 기타교구전입금 감소
A12: 과년도수입 | B12: 과년도수입 | C12: 과년도수입 | D12: =[1]세입사유!D12 -> 6045 | E12: =[1]세입사유!E12 -> 6045 | G12: 0 | H12: 0 | J12: 시설비 | K12: =+[1]세출사유!D25 -> 10080604 | L12: =+[1]세출사유!E25 -> 9757124 | M12: =+[1]세출사유!F25 -> 215364 | N12: =L12-K12 -> -323480 | O12: =SUM(N12/K12)*100 -> -3.2089347 | P12: - 강일동 신축자금 강일동성당
A13: 보조금 | B13: 보조금수입 | C13: 기타보조금 | D13: =+[1]세입사유!D14 -> 254750 | E13: =+[1]세입사유!E14 -> 236750 | F13: =+[1]세입사유!F16 -> 2029689 | G13: =E13-D13 -> -18000 | H13: =SUM(G13/D13)*100 -> -7.0657507 | I13: 사회복지 사업비 | J13: 합 계 | K13: =SUM(K14:K20) -> 1651443 | L13: =SUM(L14:L20) -> 1644342.7 | M13: =SUM(M14:M20) -> 679756 | N13: =L13-K13 -> -7100.3 | O13: =SUM(N13/K13)*100 -> -0.42994521 | P13: 부담금 감액
A14: 전입금 | B14: 전입금 | C14: 합 계 | D14: =SUM(D15:D18) -> 6921288 | E14: =SUM(E15:E18) -> 6641287.9 | F14: =SUM(F15:F16) -> 1948443 | G14: =E14-D14 -> -280000.15 | H14: =SUM(G14/D14)*100 -> -4.0454919 | J14: 본당사회사목사업비 | K14: =+[1]세출사유!D30 -> 161400 | L14: =+[1]세출사유!E30 -> 161400 | M14: =+[1]세출사유!F30 -> 59008 | N14: =L14-K14 -> 0 | O14: =SUM(N14/K14)*100 -> 0 | P14: ◆ 후원금 증가
C15: 교구전입금 | D15: =[1]세입사유!D17 -> 1058200 | E15: =[1]세입사유!E17 -> 1058200 | F15: =+[1]세입사유!F18+[1]세입사유!F19+[1]세입사유!F20 -> 1154304 | G15: =E15-D15 -> 0 | H15: =SUM(G15/D15)*100 -> 0 | J15: 분야별특화사업 | K15: =+[1]세출사유!D44 -> 117780 | L15: =+[1]세출사유!E44 -> 117780 | M15: =+[1]세출사유!F44 -> 38323 | N15: =L15-K15 -> 0 | O15: =SUM(N15/K15)*100 -> 0 | P15: - 서울주보 지정후원 증가
C16: 사순절헌금 | D16: =[1]세입사유!D18 -> 549175 | E16: =[1]세입사유!E18 -> 549174.86 | F16: =+[1]세입사유!F22 -> 794139 | G16: =E16-D16 -> -0.141 | H16: =SUM(G16/D16)*100 -> -2.5674876e-05 | J16: 지역사회보호및예방 | K16: =+[1]세출사유!D35 -> 940099 | L16: =+[1]세출사유!E35 -> 940998.8 | M16: =+[1]세출사유!F35 -> 304642 | N16: =L16-K16 -> 899.8 | O16: =SUM(N16/K16)*100 -> 0.095713324 | P16: - 개인후원금 증가
C17: 자선주일헌금 | D17: =[1]세입사유!D19 -> 543752 | E17: =[1]세입사유!E19 -> 543752.19 | G17: =E17-D17 -> 0.194 | H17: =SUM(G17/D17)*100 -> 3.567803e-05 | J17: 직영수탁시설운영지원 | K17: =+[1]세출사유!D50 -> 14725 | L17: =+[1]세출사유!E50 -> 14724.6 | M17: =+[1]세출사유!F50 -> 4163 | N17: =L17-K17 -> -0.4 | O17: =SUM(N17/K17)*100 -> -0.0027164686 | P17: - 본당모금활동으로 CMS
C18: 기타교구전입금 | D18: =[1]세입사유!D20 -> 4770161 | E18: =[1]세입사유!E20 -> 4490160.8 | G18: =E18-D18 -> -280000.2 | H18: =SUM(G18/D18)*100 -> -5.869827 | J18: 등록단체운영체계화 | K18: =+[1]세출사유!D52 -> 8100 | L18: =+[1]세출사유!E52 -> 8100 | M18: =+[1]세출사유!F52 -> 2338 | N18: =L18-K18 -> 0 | O18: =SUM(N18/K18)*100 -> 0 | P18: 후원금 증가
A19: 후원금 | B19: 합 계 | D19: =SUM(D20,D28) -> 2179275 | E19: =SUM(E20,E28) -> 2327275 | G19: =E19-D19 -> 148000 | H19: =SUM(G19/D19)*100 -> 6.7912494 | J19: 사회복지지원사업 | K19: =+[1]세출사유!D54 -> 385079 | L19: =+[1]세출사유!E54 -> 377079.3 | M19: =+[1]세출사유!F54 -> 247503 | N19: =L19-K19 -> -7999.7 | O19: =SUM(N19/K19)*100 -> -2.0774179
B20: 지정후원금 | C20: 소계 | D20: =SUM(D21:D27) -> 1721515 | E20: =SUM(E21:E27) -> 1749515 | F20: =SUM(F21:F27) -> #REF! | G20: =E20-D20 -> 28000 | H20: =SUM(G20/D20)*100 -> 1.6264744 | J20: 분야별역량강화사업비 | K20: =+[1]세출사유!D58 -> 24260 | L20: =+[1]세출사유!E58 -> 24260 | M20: =+[1]세출사유!F58 -> 23779 | N20: =L20-K20 -> 0 | O20: =SUM(N20/K20)*100 -> 0 | P20: ※ 세출 변동 내역
C21: 한마음한몸 | D21: =+[1]세입사유!D23 -> 536545 | E21: =+[1]세입사유!E23 -> 536545 | F21: =+[1]세입사유!#REF! -> #REF! | G21: =E21-D21 -> 0 | H21: =SUM(G21/D21)*100 -> 0 | I21: 교육연구 사업비 | J21: 합 계 | K21: =SUM(K22:K24) -> 200905 | L21: =SUM(L22:L24) -> 200905 | M21: =SUM(M22:M24) -> 81683 | N21: =L21-K21 -> 0 | O21: =SUM(N21/K21)*100 -> 0 | P21: ◆ 사무비 증가
C22: 재해복구 | D22: =+[1]세입사유!D24 -> 50 | E22: =+[1]세입사유!E24 -> 50 | F22: =+[1]세입사유!F25 -> 79390 | G22: =E22-D22 -> 0 | H22: =SUM(G22/D22)*100 -> 0 | J22: 교육사업 | K22: =+[1]세출사유!D63 -> 69605 | L22: =+[1]세출사유!E63 -> 69605 | M22: =+[1]세출사유!F63 -> 37792 | N22: =L22-K22 -> 0 | O22: =SUM(N22/K22)*100 -> 0 | P22: - 직원 출장 여비 증액
C23: 한가족 | D23: =+[1]세입사유!D25 -> 50520 | E23: =+[1]세입사유!E25 -> 50520 | F23: =+[1]세입사유!F26 -> 62725 | G23: =E23-D23 -> 0 | H23: =SUM(G23/D23)*100 -> 0 | J23: 연구기획 | K23: =+[1]세출사유!D67 -> 42000 | L23: =+[1]세출사유!E67 -> 42000 | M23: =+[1]세출사유!F67 -> 24871 | N23: =L23-K23 -> 0 | O23: =SUM(N23/K23)*100 -> 0 | P23: ◆ 재산조성비 감소
C24: 선교200주년 | D24: =+[1]세입사유!D26 -> 23000 | E24: =+[1]세입사유!E26 -> 23000 | F24: =+[1]세입사유!#REF! -> #REF! | G24: =E24-D24 -> 0 | H24: =SUM(G24/D24)*100 -> 0 | J24: 홍보출판 | K24: =+[1]세출사유!D72 -> 89300 | L24: =+[1]세출사유!E72 -> 89300 | M24: =+[1]세출사유!F72 -> 19020 | N24: =L24-K24 -> 0 | O24: =SUM(N24/K24)*100 -> 0 | P24: - 강일요양원 준공후공사비 익년
C25: 지정기부 | D25: =+[1]세입사유!D27 -> 984000 | E25: =+[1]세입사유!E27 -> 1012000 | F25: =+[1]세입사유!F28 -> 61780 | G25: =E25-D25 -> 28000 | H25: =SUM(G25/D25)*100 -> 2.8455285 | I25: 모금사업비 | J25: 합 계 | K25: =SUM(K26:K27) -> 103176 | L25: =SUM(L26:L27) -> 103176 | M25: =SUM(M26:M27) -> #REF! | N25: =L25-K25 -> 0 | O25: =SUM(N25/K25)*100 -> 0 | P25: 으로 이월
C26: 공모사업지원금 | D26: =+[1]세입사유!D28 -> 90000 | E26: =+[1]세입사유!E28 -> 90000 | F26: =+[1]세입사유!F29 -> 14759 | G26: =E26-D26 -> 0 | H26: =SUM(G26/D26)*100 -> 0 | J26: 모금사업 | K26: =+[1]세출사유!D77 -> 79592 | L26: =+[1]세출사유!E77 -> 79592 | M26: =+[1]세출사유!F77 -> #REF! | N26: =L26-K26 -> 0 | O26: =SUM(N26/K26)*100 -> 0 | P26: ◆ 사회복지사업비 감소
C27: 공동모금회 | D27: =+[1]세입사유!D29 -> 37400 | E27: =+[1]세입사유!E29 -> 37400 | F27: =+[1]세입사유!F30 -> #REF! | G27: =E27-D27 -> 0 | H27: =SUM(G27/D27)*100 -> 0 | J27: 모금관리 | K27: =+[1]세출사유!D82 -> 23584 | L27: =+[1]세출사유!E82 -> 23584 | M27: =+[1]세출사유!F82 -> 16571 | N27: =L27-K27 -> 0 | O27: =SUM(N27/K27)*100 -> 0 | P27: - 빨간밥차 운영비 증액
B28: 비지정후원금 | C28: 소계 | D28: =SUM(D29:D31) -> 457760 | E28: =SUM(E29:E31) -> 577760 | F28: =SUM(F29:F38) -> 2595923 | G28: =E28-D28 -> 120000 | H28: =SUM(G28/D28)*100 -> 26.21461 | I28: 자원봉사센터 | J28: 합 계 | K28: =+K29 -> 41508 | L28: =+L29 -> 41508 | M28: =+M29 -> 29840 | N28: =L28-K28 -> 0 | O28: =SUM(N28/K28)*100 -> 0 | P28: (7,200천원)
C29: 혼배기부 | D29: =+[1]세입사유!D31 -> 15000 | E29: =+[1]세입사유!E31 -> 15000 | F29: =+[1]세입사유!F32 -> 72575 | G29: =E29-D29 -> 0 | H29: =SUM(G29/D29)*100 -> 0 | J29: 자원봉사센터 | K29: =+[1]세출사유!D85 -> 41508 | L29: =+[1]세출사유!E85 -> 41508 | M29: =+[1]세출사유!F85 -> 29840 | N29: =L29-K29 -> 0 | O29: =SUM(N29/K29)*100 -> 0 | P29: - 성모영보장학금 지원 감액
C30: 한끼100원 | D30: =+[1]세입사유!D32 -> 54000 | E30: =+[1]세입사유!E32 -> 54000 | F30: =+[1]세입사유!F33 -> 551979 | G30: =E30-D30 -> 0 | H30: =SUM(G30/D30)*100 -> 0 | I30: 재해복구사업비 | J30: 재해복구사업비 | K30: =+[1]세출사유!D91 -> 10000 | L30: =+[1]세출사유!E91 -> 10000 | M30: =+[1]세출사유!F89 -> 18037 | N30: =L30-K30 -> 0 | O30: =SUM(N30/K30)*100 -> 0 | P30: (13지구 자체 지원)6,300천원
C31: 개인후원 | D31: =+[1]세입사유!D33 -> 388760 | E31: =+[1]세입사유!E33 -> 508760 | F31: =+[1]세입사유!F36 -> 1596860 | G31: =E31-D31 -> 120000 | H31: =SUM(G31/D31)*100 -> 30.867373 | I31: 잡지출 | J31: 잡지출 | K31: =+[1]세출사유!D93 -> 13332 | L31: =+[1]세출사유!E93 -> 13332 | N31: =L31-K31 -> 0 | O31: =SUM(N31/K31)*100 -> 0 | P31: - 등록단체 지원금 증액
A32: 차입금 | B32: 차입금 | C32: 기타차입금 | D32: =[1]세입사유!D35 -> 6350000 | E32: =[1]세입사유!E35 -> 6350000 | G32: =E32-D32 -> 0 | H32: 0 | I32: 상환금 | J32: 합 계 | K32: =SUM(K33) -> 2386760 | L32: =SUM(L33) -> 2386760 | M32: =SUM(M33) -> 31393 | N32: =L32-K32 -> 0 | O32: =SUM(N32/K32)*100 -> 0 | P32: (10,000천원)
A33: 이월금 | B33: 이월금 | C33: 전년도이월금 | D33: =+[1]세입사유!D36 -> 2198533 | E33: =+[1]세입사유!E36 -> 2198533 | F33: =+[1]세입사유!F37 -> 313065 | G33: =E33-D33 -> 0 | H33: =SUM(G33/D33)*100 -> 0 | J33: 부채상환금 | K33: =+[1]세출사유!D94 -> 2386760 | L33: =+[1]세출사유!E94 -> 2386760 | M33: =+[1]세출사유!F94 -> 31393 | N33: =L33-K33 -> 0 | O33: =SUM(N33/K33)*100 -> 0 | P33: - 사회적기업지원사업 감소
A34: 기타수입 | B34: 기타수입 | C34: 합 계 | D34: =SUM(D35:D38) -> 64820 | E34: =SUM(E35:E38) -> 64819.68 | F34: =SUM(F35:F38) -> 30722 | G34: =E34-D34 -> -0.32 | H34: =SUM(G34/D34)*100 -> -0.00049367479 | I34: 시설전출금 | J34: 합 계 | K34: =SUM(K35:K39) -> 1819940 | L34: =SUM(L35:L39) -> 1819940 | M34: =SUM(M35:M39) -> #REF! | N34: =L34-K34 -> 0 | O34: =SUM(N34/K34)*100 -> 0 | P34: (18,000천원)
C35: 교육수입 | D35: =+[1]세입사유!D42 -> 39810 | E35: =+[1]세입사유!E42 -> 39810 | F35: =+[1]세입사유!F43 -> 11863 | G35: =E35-D35 -> 0 | H35: =SUM(G35/D35)*100 -> 0 | J35: 종합복지 | K35: =SUM([1]세출사유!D98:D103) -> 311800 | L35: =SUM([1]세출사유!E98:E103) -> 311800 | M35: =SUM([1]세출사유!F98:F103) -> #REF! | N35: =L35-K35 -> 0 | O35: =SUM(N35/K35)*100 -> 0 | P35: ◆ 예비비 및 기타 증가
C36: 기타예금이자수입 | D36: =+[1]세입사유!D43 -> 8000 | E36: =+[1]세입사유!E43 -> 8000 | F36: =+[1]세입사유!F44 -> 12359 | G36: =E36-D36 -> 0 | H36: =SUM(G36/D36)*100 -> 0 | J36: 노인복지 | K36: =SUM([1]세출사유!D104:D108,[1]세출사유!D143) -> 506440 | L36: =SUM([1]세출사유!E104:E108,[1]세출사유!E143) -> 506440 | M36: =SUM([1]세출사유!F104:F108) -> #REF! | N36: =L36-K36 -> 0 | O36: =SUM(N36/K36)*100 -> 0 | P36: - 이월금 증액 예상
C37: 법인세환급 | D37: =+[1]세입사유!D44 -> 6830 | E37: =+[1]세입사유!E44 -> 6829.68 | F37: =+[1]세입사유!F45 -> 6500 | G37: =E37-D37 -> -0.32 | H37: =SUM(G37/D37)*100 -> -0.0046852123 | J37: 장애인 복지 | K37: =+[1]세출사유!D109+[1]세출사유!D110+[1]세출사유!D111+[1]세출사유!D114+[1]세출사유!D115 -> 233200 | L37: =+[1]세출사유!E109+[1]세출사유!E110+[1]세출사유!E111+[1]세출사유!E114+[1]세출사유!E115 -> 233200 | M37: =SUM([1]세출사유!F109:F115) -> #REF! | N37: =L37-K37 -> 0 | O37: =SUM(N37/K37)*100 -> 0
C38: 기타잡수입 | D38: =+[1]세입사유!D45 -> 10180 | E38: =+[1]세입사유!E45 -> 10180 | F38: =+[1]세입사유!F46 -> 0 | G38: =E38-D38 -> 0 | H38: =SUM(G38/D38)*100 -> 0 | J38: 아동 복지 | K38: =SUM([1]세출사유!D121:D142) -> 218900 | L38: =SUM([1]세출사유!E121:E142) -> 218900 | N38: =L38-K38 -> 0 | O38: =SUM(N38/K38)*100 -> 0
J39: 노숙인,여성 및 기타 | K39: =+[1]세출사유!D112+[1]세출사유!D113+[1]세출사유!D116+[1]세출사유!D117+[1]세출사유!D118+[1]세출사유!D119+[1]세출사유!D120+[1]세출사유!D144+[1]세출사유!D145 -> 549600 | L39: =+[1]세출사유!E112+[1]세출사유!E113+[1]세출사유!E116+[1]세출사유!E117+[1]세출사유!E118+[1]세출사유!E119+[1]세출사유!E120+[1]세출사유!E144+[1]세출사유!E145 -> 549600 | M39: =SUM([1]세출사유!F116:F145) -> #REF! | N39: =L39-K39 -> 0 | O39: =SUM(N39/K39)*100 -> 0
I40: 예비비 | J40: 합 계 | K40: =SUM(K41:K42) -> 1523621 | L40: =SUM(L41:L42) -> 1703001 | M40: =SUM(M41) -> -1 | N40: =L40-K40 -> 179380 | O40: =SUM(N40/K40)*100 -> 11.773269
...
